BEGIN:VCALENDAR
VERSION:2.0
PRODID:-//Angel Association New Zealand - ECPv6.15.20//NONSGML v1.0//EN
CALSCALE:GREGORIAN
METHOD:PUBLISH
X-ORIGINAL-URL:https://www.angelassociation.co.nz
X-WR-CALDESC:Events for Angel Association New Zealand
REFRESH-INTERVAL;VALUE=DURATION:PT1H
X-Robots-Tag:noindex
X-PUBLISHED-TTL:PT1H
BEGIN:VTIMEZONE
TZID:UTC
BEGIN:STANDARD
TZOFFSETFROM:+0000
TZOFFSETTO:+0000
TZNAME:UTC
DTSTART:20240101T000000
END:STANDARD
END:VTIMEZONE
BEGIN:VTIMEZONE
TZID:UTC
BEGIN:STANDARD
TZOFFSETFROM:+0000
TZOFFSETTO:+0000
TZNAME:UTC
DTSTART:20240101T000000
END:STANDARD
END:VTIMEZONE
BEGIN:VEVENT
DTSTART;TZID=UTC:20250521T163000
DTEND;TZID=UTC:20250521T190000
DTSTAMP:20260425T131256
CREATED:20250214T024836Z
LAST-MODIFIED:20250214T030113Z
UID:4300-1747845000-1747854000@www.angelassociation.co.nz
SUMMARY:Investment Evening
DESCRIPTION:The Mainland Angel Investors will host our third investment evening for 2025 on May 21st in Invercargill\, Queenstown\, Christchurch\, Wanaka and Dunedin. \nVenues: \n– Dunedin: TBC \n– Invercargill: TBC \n– Queenstown: TBC \n– Christchurch: TBC \n– Wanaka: TBC\n\n \nJoin us to hear from three startups as they pitch their unique value propositions\, growth potential\, and financial projections. This is a fantastic opportunity to network with like-minded investors and entrepreneurs who are interested in supporting the next generation of successful startups. \nDoors will open at 4.30 pm and formalities will kick off at 5 pm. Make the most of the 30-minute networking time at the beginning of the event! \nRegister here
URL:https://www.angelassociation.co.nz/members-event/investment-evening-4/
CATEGORIES:Investment Evenings and Events
ATTACH;FMTTYPE=image/png:https://www.angelassociation.co.nz/wp-content/uploads/2024/01/MAI-for-member-event-page-in-WP.png
ORGANIZER;CN="Mainland Angel Investors":MAILTO:PETER.RAMSAY@MAINLANDANGELS.NZ
END:VEVENT
BEGIN:VEVENT
DTSTART;TZID=UTC:20250521T173000
DTEND;TZID=UTC:20250521T203000
DTSTAMP:20260425T131256
CREATED:20250218T040022Z
LAST-MODIFIED:20250218T040022Z
UID:4346-1747848600-1747859400@www.angelassociation.co.nz
SUMMARY:Angel Investors Marlborough Investment Evening
DESCRIPTION:Angel Investors Marlborough Investment Evening – Email admin@angelinvestorsmarlborough.co.nz to register
URL:https://www.angelassociation.co.nz/members-event/angel-investors-marlborough-investment-evening-4/
LOCATION:Angel Investors Marlborough\, 92 High Street\, Blenheim\, New Zealand
CATEGORIES:Investment Evenings and Events
ATTACH;FMTTYPE=image/png:https://www.angelassociation.co.nz/wp-content/uploads/2023/06/AIM588x410-588x410-c-default.png
ORGANIZER;CN="Angel Investors Marlborough":MAILTO:manager@businesstrustmarlborough.co.nz
END:VEVENT
BEGIN:VEVENT
DTSTART;TZID=UTC:20250529T170000
DTEND;TZID=UTC:20250529T193000
DTSTAMP:20260425T131256
CREATED:20250214T033624Z
LAST-MODIFIED:20250214T034302Z
UID:4313-1748538000-1748547000@www.angelassociation.co.nz
SUMMARY:Enterprise Angels May Pitch Night - Tauranga
DESCRIPTION:Our regular Pitch Nights are an opportunity to network with investors\, entrepreneurs and other like minded individuals supporting the early stage (Angel Investment) space. \nMeet some innovative early stage kiwi companies\, hear the requests they have and the questions potential investors put to them.  \nPresentations start at 5:30pm\, allowing time for networking and drinks beforehand. \nRegister Here: May Pitch Night – Tauranga
URL:https://www.angelassociation.co.nz/members-event/enterprise-angels-may-pitch-night-hamilton/
LOCATION:Enterprise Angels Tauranga\, Cooney Lees Morgan\, 247 Cameron Road\, Tauranga\, BOP\, New Zealand
CATEGORIES:Investment Evenings and Events
ATTACH;FMTTYPE=image/png:https://www.angelassociation.co.nz/wp-content/uploads/2024/02/EA-event-image-1.png
END:VEVENT
BEGIN:VEVENT
DTSTART;TZID=UTC:20250529T170000
DTEND;TZID=UTC:20250529T193000
DTSTAMP:20260425T131256
CREATED:20250214T034642Z
LAST-MODIFIED:20250214T040455Z
UID:4320-1748538000-1748547000@www.angelassociation.co.nz
SUMMARY:Enterprise Angels May Pitch Night - Online
DESCRIPTION:Our regular Pitch Nights are an opportunity to hear from interesting speakers\, about new investment opportunities and meet with entrepreneurs and other like minded individuals in the early stage (Angel Investment) space. \nRegister Here: May Pitch Night – Online
URL:https://www.angelassociation.co.nz/members-event/enterprise-angels-may-pitch-night-online/
LOCATION:Enterprise Angels Online
CATEGORIES:Investment Evenings and Events
ATTACH;FMTTYPE=image/png:https://www.angelassociation.co.nz/wp-content/uploads/2024/02/EA-event-image-1.png
END:VEVENT
END:VCALENDAR