BEGIN:VCALENDAR
VERSION:2.0
PRODID:-//Angel Association New Zealand - ECPv6.15.20//NONSGML v1.0//EN
CALSCALE:GREGORIAN
METHOD:PUBLISH
X-WR-CALNAME:Angel Association New Zealand
X-ORIGINAL-URL:https://www.angelassociation.co.nz
X-WR-CALDESC:Events for Angel Association New Zealand
REFRESH-INTERVAL;VALUE=DURATION:PT1H
X-Robots-Tag:noindex
X-PUBLISHED-TTL:PT1H
BEGIN:VTIMEZONE
TZID:UTC
BEGIN:STANDARD
TZOFFSETFROM:+0000
TZOFFSETTO:+0000
TZNAME:UTC
DTSTART:20250101T000000
END:STANDARD
END:VTIMEZONE
BEGIN:VEVENT
DTSTART;TZID=UTC:20260203T080000
DTEND;TZID=UTC:20260203T170000
DTSTAMP:20260426T010613
CREATED:20260203T014207Z
LAST-MODIFIED:20260203T014207Z
UID:4874-1770105600-1770138000@www.angelassociation.co.nz
SUMMARY:Flying Kiwi Angels - Pitch Night
DESCRIPTION:For more information please contact pitch.night@fka.nz \n 
URL:https://www.angelassociation.co.nz/members-event/flying-kiwi-angels-pitch-night-8/
CATEGORIES:Investment Evenings and Events
ATTACH;FMTTYPE=image/png:https://www.angelassociation.co.nz/wp-content/uploads/2023/06/FKA588x410-588x410-c-default.png
END:VEVENT
BEGIN:VEVENT
DTSTART;TZID=UTC:20260217T170000
DTEND;TZID=UTC:20260217T190000
DTSTAMP:20260426T010613
CREATED:20260203T010406Z
LAST-MODIFIED:20260210T014138Z
UID:4858-1771347600-1771354800@www.angelassociation.co.nz
SUMMARY:Flying Kiwi Angels - Pitch Night
DESCRIPTION:Please contact pitch.night@fka.nz for more information
URL:https://www.angelassociation.co.nz/members-event/flying-kiwi-angels-pitch-night/
CATEGORIES:Investment Evenings and Events
ATTACH;FMTTYPE=image/png:https://www.angelassociation.co.nz/wp-content/uploads/2026/02/FKA-WP-EVENT.png
ORGANIZER;CN="Flying Kiwi Angels":MAILTO:Andy.Harwood@fka.nz
END:VEVENT
BEGIN:VEVENT
DTSTART;TZID=UTC:20260218T180000
DTEND;TZID=UTC:20260218T204500
DTSTAMP:20260426T010613
CREATED:20251119T225053Z
LAST-MODIFIED:20251119T225053Z
UID:4789-1771437600-1771447500@www.angelassociation.co.nz
SUMMARY:Angel Investors Marlborough – Pitch Night
DESCRIPTION:Our regular Pitch Nights are an opportunity to network with investors\, entrepreneurs and other like minded individuals supporting the early stage (Angel Investment) space. \nDay and date of event: Third Wednesday of the month\, beginning February to November 2026. \nPresentations start at 6.00pm – 8.45pm. \nVenue: The Blenheim Club – 92 High Street\, Blenheim. \nRegister Here: admin@angelinvestorsmarlborough.co.nz
URL:https://www.angelassociation.co.nz/members-event/angel-investors-marlborough-pitch-night/
LOCATION:Angel Investors Marlborough\, 92 High Street\, Blenheim\, New Zealand
CATEGORIES:Investment Evenings and Events
ATTACH;FMTTYPE=image/png:https://www.angelassociation.co.nz/wp-content/uploads/2023/06/AIM588x410-588x410-c-default.png
ORGANIZER;CN="Angel Investors Marlborough":MAILTO:manager@businesstrustmarlborough.co.nz
END:VEVENT
BEGIN:VEVENT
DTSTART;TZID=UTC:20260219T110000
DTEND;TZID=UTC:20260219T140000
DTSTAMP:20260426T010613
CREATED:20260203T005606Z
LAST-MODIFIED:20260203T005606Z
UID:4854-1771498800-1771509600@www.angelassociation.co.nz
SUMMARY:Valuations and Due diligence - hosted by Mainland Angels
DESCRIPTION:Inside an Investor’s Mind: How Professionals Evaluate Startup Deals \nThis advanced session is designed for experienced angel investors and those who have already evaluated or participated in angel deals. If you have made investments before\, understand the basics of venture investing\, and want to sharpen how you assess opportunities\, this session will be highly relevant. \nMike Wyeth\, Partner at BDO Invercargill and former Senior Investment Associate at Invest South will take participants behind the scenes of how professional investors evaluate early-stage companies. Drawing on more than 15 years in the finance industry across the UK and New Zealand\, Mike will walk through the real-world frameworks\, tools\, and thinking he uses to assess risk\, value\, and investment readiness. Ben Keall\, CA and Deal Advisory Associate at BDO Christchurch will also be co-presenting in this interactive session \nThis will be a practical\, technical session. Attendees should bring a laptop and be prepared to work through examples and apply tools live during the session. \nThe discussion will operate under Chatham House Rules to enable open\, candid insight into how professional investors approach deal evaluation. \nThis session is ideal for angels who want to deepen their investment capability\, stress-test their own decision-making processes\, and gain greater confidence evaluating startup opportunities. \nLocation: Christchurch\nAudience: Angels who want to learn more quantitative methods and already know the 101 of angel investing\nFormat: Interactive\, laptop-based working session
URL:https://www.angelassociation.co.nz/members-event/valuations-and-due-diligence-hosted-by-mainland-angels/
LOCATION:BDO Christchruch
CATEGORIES:Investment Evenings and Events
ATTACH;FMTTYPE=image/png:https://www.angelassociation.co.nz/wp-content/uploads/2026/02/MAI-for-member-event-page-in-WP.png
ORGANIZER;CN="Mainland Angel Investors":MAILTO:PETER.RAMSAY@MAINLANDANGELS.NZ
END:VEVENT
BEGIN:VEVENT
DTSTART;TZID=UTC:20260225T170000
DTEND;TZID=UTC:20260225T193000
DTSTAMP:20260426T010613
CREATED:20260203T003306Z
LAST-MODIFIED:20260203T003714Z
UID:4839-1772038800-1772047800@www.angelassociation.co.nz
SUMMARY:Mainland Angel Investors - February Pitch Investment Evening 2026
DESCRIPTION:  \nThe Mainland Angel Investors will host our first investment evening for 2026 on February 25th in Invercargill\, Queenstown\, Christchurch\, Wanaka and Dunedin. \nVenues: \n– Dunedin: Potentia\, 469 Moray Place \n– Invercargill: COIN South – 25 Don St \n– Queenstown: BNZ Centre\, Level 4\, Building 8/36 Grant Road \n– Christchurch: BNZ Centre\, Level 4\, 111 Cashel Street Christchurch Central City Christchurch\, Christchurch Central City\, Canterbury 8011 \n– Wanaka: Craig’s Investment Partners – 13 Sir Tim Wallis Drive\n\n \nJoin us to hear from three startups as they pitch their unique value propositions\, growth potential\, and financial projections. This is a fantastic opportunity to network with like-minded investors and entrepreneurs who are interested in supporting the next generation of successful startups. \nDoors will open at 5 pm and formalities will kick off at 5.30 pm. Make the most of the 30-minute networking time at the beginning of the event. \nFor those who are considering a membership\, please reach out to Peter.ramsay@mainlandangels.nz or camille@mainlandangels.nz for more information. We’d love to have you join us. \nFor Christchurch members\, we are going to Midnight Shanghai for dinner after at 7.30pm. If you would like to attend\, please contact Camille
URL:https://www.angelassociation.co.nz/members-event/mainland-angel-investors-february-pitch-investment-evening-2026/
CATEGORIES:Investment Evenings and Events
ATTACH;FMTTYPE=image/png:https://www.angelassociation.co.nz/wp-content/uploads/2026/02/MAI-for-member-event-page-in-WP.png
ORGANIZER;CN="Mainland Angel Investors":MAILTO:PETER.RAMSAY@MAINLANDANGELS.NZ
END:VEVENT
END:VCALENDAR